BEGIN:VCALENDAR
VERSION:2.0
PRODID:-//California Wildlife Center - ECPv6.15.20//NONSGML v1.0//EN
CALSCALE:GREGORIAN
METHOD:PUBLISH
X-WR-CALNAME:California Wildlife Center
X-ORIGINAL-URL:https://cawildlife.org
X-WR-CALDESC:Events for California Wildlife Center
REFRESH-INTERVAL;VALUE=DURATION:PT1H
X-Robots-Tag:noindex
X-PUBLISHED-TTL:PT1H
BEGIN:VTIMEZONE
TZID:America/Los_Angeles
BEGIN:DAYLIGHT
TZOFFSETFROM:-0800
TZOFFSETTO:-0700
TZNAME:PDT
DTSTART:20230312T100000
END:DAYLIGHT
BEGIN:STANDARD
TZOFFSETFROM:-0700
TZOFFSETTO:-0800
TZNAME:PST
DTSTART:20231105T090000
END:STANDARD
BEGIN:DAYLIGHT
TZOFFSETFROM:-0800
TZOFFSETTO:-0700
TZNAME:PDT
DTSTART:20240310T100000
END:DAYLIGHT
BEGIN:STANDARD
TZOFFSETFROM:-0700
TZOFFSETTO:-0800
TZNAME:PST
DTSTART:20241103T090000
END:STANDARD
BEGIN:DAYLIGHT
TZOFFSETFROM:-0800
TZOFFSETTO:-0700
TZNAME:PDT
DTSTART:20250309T100000
END:DAYLIGHT
BEGIN:STANDARD
TZOFFSETFROM:-0700
TZOFFSETTO:-0800
TZNAME:PST
DTSTART:20251102T090000
END:STANDARD
END:VTIMEZONE
BEGIN:VEVENT
DTSTART;TZID=America/Los_Angeles:20240413T140000
DTEND;TZID=America/Los_Angeles:20240413T170000
DTSTAMP:20260419T150824
CREATED:20240226T221637Z
LAST-MODIFIED:20240226T225814Z
UID:7871-1713016800-1713027600@cawildlife.org
SUMMARY:Calabasas Earth Day Festival
DESCRIPTION:CWC is joining the City of Calabasas for their annual Earth Day festival! \nThe City of Calabasas Earth Day Celebration/Green Expo will take place on Saturday\, April 13\, 2024 from 2:00pm to 5:00pm at the Las Virgenes Creek site\, north of Agoura Rd. in Calabasas. Over fifty exhibitors from all over Los Angeles County and Ventura County will be participating in the event to help participants take actions that will save them money through efficiency while protecting our planet. The festival is free of charge and the Calabasas Earth Day event will have something of interest for everyone. The festival will also feature numerous children’s activities to teach kids about the environment while they have fun.
URL:https://cawildlife.org/event/calabasas-earth-day-festival/
LOCATION:Las Virgenes Creek at Agoura Rd\, 26531 Agoura Rd\, Calabasas\, 91302\, United States
CATEGORIES:Education
ATTACH;FMTTYPE=image/png:https://cawildlife.org/wp-content/uploads/2024/02/Screenshot-2024-02-26-141524.png
END:VEVENT
END:VCALENDAR