BEGIN:VCALENDAR
VERSION:2.0
PRODID:-//California Wildlife Center - ECPv6.15.20//NONSGML v1.0//EN
CALSCALE:GREGORIAN
METHOD:PUBLISH
X-ORIGINAL-URL:https://cawildlife.org
X-WR-CALDESC:Events for California Wildlife Center
REFRESH-INTERVAL;VALUE=DURATION:PT1H
X-Robots-Tag:noindex
X-PUBLISHED-TTL:PT1H
BEGIN:VTIMEZONE
TZID:America/Los_Angeles
BEGIN:DAYLIGHT
TZOFFSETFROM:-0800
TZOFFSETTO:-0700
TZNAME:PDT
DTSTART:20230312T100000
END:DAYLIGHT
BEGIN:STANDARD
TZOFFSETFROM:-0700
TZOFFSETTO:-0800
TZNAME:PST
DTSTART:20231105T090000
END:STANDARD
BEGIN:DAYLIGHT
TZOFFSETFROM:-0800
TZOFFSETTO:-0700
TZNAME:PDT
DTSTART:20240310T100000
END:DAYLIGHT
BEGIN:STANDARD
TZOFFSETFROM:-0700
TZOFFSETTO:-0800
TZNAME:PST
DTSTART:20241103T090000
END:STANDARD
BEGIN:DAYLIGHT
TZOFFSETFROM:-0800
TZOFFSETTO:-0700
TZNAME:PDT
DTSTART:20250309T100000
END:DAYLIGHT
BEGIN:STANDARD
TZOFFSETFROM:-0700
TZOFFSETTO:-0800
TZNAME:PST
DTSTART:20251102T090000
END:STANDARD
END:VTIMEZONE
BEGIN:VEVENT
DTSTART;TZID=America/Los_Angeles:20240421T100000
DTEND;TZID=America/Los_Angeles:20240421T170000
DTSTAMP:20260419T151040
CREATED:20240404T164332Z
LAST-MODIFIED:20240404T164332Z
UID:7911-1713693600-1713718800@cawildlife.org
SUMMARY:CWC at Melrose Trading Post
DESCRIPTION:Find CWC at space B86 with our education vehicle loaded tactile exhibits and information on living with wildlife! For Earth Day\, we will also be offering a track-casting craft for families! \nThe Melrose Trading Post is a pioneering arts-based marketplace held every Sunday at Fairfax High School in Los Angeles\, CA with 275 local creative small business vendors\, delicious food booths and local live music. \nMTP was founded in 1997 with a mission to champion small businesses\, art and community. The market funds Greenway Arts Alliance’s arts education programming and provides employment and leadership development opportunities for students at Fairfax High School.
URL:https://cawildlife.org/event/cwc-at-melrose-trading-post-2/
LOCATION:Fairfax High School\, 7850 Melrose Ave\, Los Angeles\, CA\, 90046\, United States
CATEGORIES:Education
ATTACH;FMTTYPE=image/png:https://cawildlife.org/wp-content/uploads/2024/02/melrose-trading-post.png
END:VEVENT
END:VCALENDAR