BEGIN:VCALENDAR
VERSION:2.0
PRODID:-//California Wildlife Center - ECPv6.15.20//NONSGML v1.0//EN
CALSCALE:GREGORIAN
METHOD:PUBLISH
X-WR-CALNAME:California Wildlife Center
X-ORIGINAL-URL:https://cawildlife.org
X-WR-CALDESC:Events for California Wildlife Center
REFRESH-INTERVAL;VALUE=DURATION:PT1H
X-Robots-Tag:noindex
X-PUBLISHED-TTL:PT1H
BEGIN:VTIMEZONE
TZID:America/Los_Angeles
BEGIN:DAYLIGHT
TZOFFSETFROM:-0800
TZOFFSETTO:-0700
TZNAME:PDT
DTSTART:20230312T100000
END:DAYLIGHT
BEGIN:STANDARD
TZOFFSETFROM:-0700
TZOFFSETTO:-0800
TZNAME:PST
DTSTART:20231105T090000
END:STANDARD
BEGIN:DAYLIGHT
TZOFFSETFROM:-0800
TZOFFSETTO:-0700
TZNAME:PDT
DTSTART:20240310T100000
END:DAYLIGHT
BEGIN:STANDARD
TZOFFSETFROM:-0700
TZOFFSETTO:-0800
TZNAME:PST
DTSTART:20241103T090000
END:STANDARD
BEGIN:DAYLIGHT
TZOFFSETFROM:-0800
TZOFFSETTO:-0700
TZNAME:PDT
DTSTART:20250309T100000
END:DAYLIGHT
BEGIN:STANDARD
TZOFFSETFROM:-0700
TZOFFSETTO:-0800
TZNAME:PST
DTSTART:20251102T090000
END:STANDARD
END:VTIMEZONE
BEGIN:VEVENT
DTSTART;TZID=America/Los_Angeles:20240612T100000
DTEND;TZID=America/Los_Angeles:20240612T120000
DTSTAMP:20260419T115122
CREATED:20240604T213946Z
LAST-MODIFIED:20240604T213946Z
UID:8006-1718186400-1718193600@cawildlife.org
SUMMARY:Private Event: Summer Camp
DESCRIPTION:CWC staff are available to speak to groups about wildlife coexistence and rehabilitation online and in-person. This event is not open to the public. To request a presentation or workshop for your organization or school\, e-mail cwells@cawildlife.org
URL:https://cawildlife.org/event/private-event-school-visit-2-4-2-2-3/
LOCATION:CA
CATEGORIES:Education
ATTACH;FMTTYPE=image/jpeg:https://cawildlife.org/wp-content/uploads/2024/02/CWCLogo.jpg
END:VEVENT
END:VCALENDAR