BEGIN:VCALENDAR
VERSION:2.0
PRODID:-//California Wildlife Center - ECPv6.15.20//NONSGML v1.0//EN
CALSCALE:GREGORIAN
METHOD:PUBLISH
X-WR-CALNAME:California Wildlife Center
X-ORIGINAL-URL:https://cawildlife.org
X-WR-CALDESC:Events for California Wildlife Center
REFRESH-INTERVAL;VALUE=DURATION:PT1H
X-Robots-Tag:noindex
X-PUBLISHED-TTL:PT1H
BEGIN:VTIMEZONE
TZID:America/Los_Angeles
BEGIN:DAYLIGHT
TZOFFSETFROM:-0800
TZOFFSETTO:-0700
TZNAME:PDT
DTSTART:20230312T100000
END:DAYLIGHT
BEGIN:STANDARD
TZOFFSETFROM:-0700
TZOFFSETTO:-0800
TZNAME:PST
DTSTART:20231105T090000
END:STANDARD
BEGIN:DAYLIGHT
TZOFFSETFROM:-0800
TZOFFSETTO:-0700
TZNAME:PDT
DTSTART:20240310T100000
END:DAYLIGHT
BEGIN:STANDARD
TZOFFSETFROM:-0700
TZOFFSETTO:-0800
TZNAME:PST
DTSTART:20241103T090000
END:STANDARD
BEGIN:DAYLIGHT
TZOFFSETFROM:-0800
TZOFFSETTO:-0700
TZNAME:PDT
DTSTART:20250309T100000
END:DAYLIGHT
BEGIN:STANDARD
TZOFFSETFROM:-0700
TZOFFSETTO:-0800
TZNAME:PST
DTSTART:20251102T090000
END:STANDARD
END:VTIMEZONE
BEGIN:VEVENT
DTSTART;TZID=America/Los_Angeles:20240621T090000
DTEND;TZID=America/Los_Angeles:20240621T130000
DTSTAMP:20260419T115036
CREATED:20240604T214854Z
LAST-MODIFIED:20240604T214854Z
UID:8019-1718960400-1718974800@cawildlife.org
SUMMARY:CWC @ Topanga Farmer's Market
DESCRIPTION:Come find CWC celebrating the start of summer all day at Topanga Farmer’s Market! A certified Farmer’s Market at 1440 N Topanga Canyon Rd offering local\, organic food\, vintage & handmade goods
URL:https://cawildlife.org/event/cwc-topanga-farmers-market/
LOCATION:CA
ATTACH;FMTTYPE=image/png:https://cawildlife.org/wp-content/uploads/2024/06/tfm.png
END:VEVENT
END:VCALENDAR