BEGIN:VCALENDAR
VERSION:2.0
PRODID:-//California Wildlife Center - ECPv6.15.20//NONSGML v1.0//EN
CALSCALE:GREGORIAN
METHOD:PUBLISH
X-ORIGINAL-URL:https://cawildlife.org
X-WR-CALDESC:Events for California Wildlife Center
REFRESH-INTERVAL;VALUE=DURATION:PT1H
X-Robots-Tag:noindex
X-PUBLISHED-TTL:PT1H
BEGIN:VTIMEZONE
TZID:America/Los_Angeles
BEGIN:DAYLIGHT
TZOFFSETFROM:-0800
TZOFFSETTO:-0700
TZNAME:PDT
DTSTART:20230312T100000
END:DAYLIGHT
BEGIN:STANDARD
TZOFFSETFROM:-0700
TZOFFSETTO:-0800
TZNAME:PST
DTSTART:20231105T090000
END:STANDARD
BEGIN:DAYLIGHT
TZOFFSETFROM:-0800
TZOFFSETTO:-0700
TZNAME:PDT
DTSTART:20240310T100000
END:DAYLIGHT
BEGIN:STANDARD
TZOFFSETFROM:-0700
TZOFFSETTO:-0800
TZNAME:PST
DTSTART:20241103T090000
END:STANDARD
BEGIN:DAYLIGHT
TZOFFSETFROM:-0800
TZOFFSETTO:-0700
TZNAME:PDT
DTSTART:20250309T100000
END:DAYLIGHT
BEGIN:STANDARD
TZOFFSETFROM:-0700
TZOFFSETTO:-0800
TZNAME:PST
DTSTART:20251102T090000
END:STANDARD
END:VTIMEZONE
BEGIN:VEVENT
DTSTART;TZID=America/Los_Angeles:20240928T090000
DTEND;TZID=America/Los_Angeles:20240928T140000
DTSTAMP:20260419T071614
CREATED:20240828T173503Z
LAST-MODIFIED:20240910T163947Z
UID:8115-1727514000-1727532000@cawildlife.org
SUMMARY:Native Plantpalooza & Eco Fest
DESCRIPTION:Join CWC at this FREE educational event featuring dozens of eco-related exhibitors and fun activities for kids. The event will be held rain or shine on Saturday\, September 28\, from 9:00 a.m. to 2:00 p.m. at Lakeside\, Conejo Creek North Park in Thousand Oaks. \nGet your questions answered about water-wise\, fire-resistant native-plant gardening\, learn how to fight climate change and find tips on living more sustainably—all completely free of charge! Kids can learn about plants and animals and what they can do to help the environment.
URL:https://cawildlife.org/event/coastal-cleanup-day-2-2/
LOCATION:CA
ATTACH;FMTTYPE=image/jpeg:https://cawildlife.org/wp-content/uploads/2024/08/plantpalooza.jpg
END:VEVENT
END:VCALENDAR