BEGIN:VCALENDAR
VERSION:2.0
PRODID:-//California Wildlife Center - ECPv6.15.20//NONSGML v1.0//EN
CALSCALE:GREGORIAN
METHOD:PUBLISH
X-WR-CALNAME:California Wildlife Center
X-ORIGINAL-URL:https://cawildlife.org
X-WR-CALDESC:Events for California Wildlife Center
REFRESH-INTERVAL;VALUE=DURATION:PT1H
X-Robots-Tag:noindex
X-PUBLISHED-TTL:PT1H
BEGIN:VTIMEZONE
TZID:UTC
BEGIN:STANDARD
TZOFFSETFROM:+0000
TZOFFSETTO:+0000
TZNAME:UTC
DTSTART:20230101T000000
END:STANDARD
END:VTIMEZONE
BEGIN:VEVENT
DTSTART;TZID=UTC:20240323T173000
DTEND;TZID=UTC:20240323T213000
DTSTAMP:20260419T231132
CREATED:20240224T030732Z
LAST-MODIFIED:20240226T225830Z
UID:7844-1711215000-1711229400@cawildlife.org
SUMMARY:Studio City Movies in the Park
DESCRIPTION:Come watch Kung Fu Panda (2008) at Movies in the Park with Studio City Neighborhood Council\, your neighbors\, your family\, and friends. CWC will be onsite with our education vehicle to hand out information about living with wildlife and about wildlife rehabilitation.
URL:https://cawildlife.org/event/studio-city-movies-in-the-park/
LOCATION:Studio City Parks and Recreation Center (Beeman Park)\, 12621 Rye St.\, Studio City\, CA\, United States
CATEGORIES:Education
ATTACH;FMTTYPE=image/jpeg:https://cawildlife.org/wp-content/uploads/2024/02/movietime.jpg
END:VEVENT
BEGIN:VEVENT
DTSTART;TZID=UTC:20240316T100000
DTEND;TZID=UTC:20240316T113000
DTSTAMP:20260419T231132
CREATED:20240224T031236Z
LAST-MODIFIED:20240226T225838Z
UID:7850-1710583200-1710588600@cawildlife.org
SUMMARY:Private training
DESCRIPTION:CWC staff are available to speak to groups about wildlife coexistence and rehabilitation online and in-person. This event is not open to the public. To request a presentation or workshop for your organization\, e-mail cwells@cawildlife.org
URL:https://cawildlife.org/event/private-training/
LOCATION:Online Event
CATEGORIES:Education
ATTACH;FMTTYPE=image/jpeg:https://cawildlife.org/wp-content/uploads/2024/02/CWCLogo.jpg
END:VEVENT
BEGIN:VEVENT
DTSTART;TZID=UTC:20240310T090000
DTEND;TZID=UTC:20240310T130000
DTSTAMP:20260419T231132
CREATED:20240226T220600Z
LAST-MODIFIED:20240226T220618Z
UID:7867-1710061200-1710075600@cawildlife.org
SUMMARY:Vet @ the Park Rolling Hills
DESCRIPTION:Join our colleagues at LA County Animal Care and Control for a free pet wellness clinic. CWC will be onsite with our education vehicle to hand out information about our wildlife rehabilitation services.
URL:https://cawildlife.org/event/vet-the-park-lomita-2/
LOCATION:Ernie Howlett Park\, Rolling Hills Estates\, 25851 Hawthorne Blvd\, Rolling Hills Estates\, CA\, 90274
CATEGORIES:Education
ATTACH;FMTTYPE=image/jpeg:https://cawildlife.org/wp-content/uploads/2024/02/Vet@ThePark-Rolling-Hills-Estates-3.10-e1708985117479.jpg
END:VEVENT
BEGIN:VEVENT
DTSTART;TZID=UTC:20240225T090000
DTEND;TZID=UTC:20240225T130000
DTSTAMP:20260419T231132
CREATED:20240224T030344Z
LAST-MODIFIED:20240226T225846Z
UID:7840-1708851600-1708866000@cawildlife.org
SUMMARY:Vet @ the Park Lomita
DESCRIPTION:Join our colleagues at LA County Animal Care and Control for a free pet wellness clinic. CWC will be onsite with our education vehicle to hand out information about our wildlife rehabilitation services.
URL:https://cawildlife.org/event/vet-the-park-lomita/
LOCATION:Lomita City Hall\, 24300 Narbonne Ave\, Lomita\, CA\, 90717\, United States
CATEGORIES:Education
ATTACH;FMTTYPE=image/jpeg:https://cawildlife.org/wp-content/uploads/2024/02/VetCityHall.jpg
END:VEVENT
END:VCALENDAR