BEGIN:VCALENDAR
VERSION:2.0
PRODID:-//California Wildlife Center - ECPv6.15.20//NONSGML v1.0//EN
CALSCALE:GREGORIAN
METHOD:PUBLISH
X-ORIGINAL-URL:https://cawildlife.org
X-WR-CALDESC:Events for California Wildlife Center
REFRESH-INTERVAL;VALUE=DURATION:PT1H
X-Robots-Tag:noindex
X-PUBLISHED-TTL:PT1H
BEGIN:VTIMEZONE
TZID:America/Los_Angeles
BEGIN:DAYLIGHT
TZOFFSETFROM:-0800
TZOFFSETTO:-0700
TZNAME:PDT
DTSTART:20230312T100000
END:DAYLIGHT
BEGIN:STANDARD
TZOFFSETFROM:-0700
TZOFFSETTO:-0800
TZNAME:PST
DTSTART:20231105T090000
END:STANDARD
BEGIN:DAYLIGHT
TZOFFSETFROM:-0800
TZOFFSETTO:-0700
TZNAME:PDT
DTSTART:20240310T100000
END:DAYLIGHT
BEGIN:STANDARD
TZOFFSETFROM:-0700
TZOFFSETTO:-0800
TZNAME:PST
DTSTART:20241103T090000
END:STANDARD
BEGIN:DAYLIGHT
TZOFFSETFROM:-0800
TZOFFSETTO:-0700
TZNAME:PDT
DTSTART:20250309T100000
END:DAYLIGHT
BEGIN:STANDARD
TZOFFSETFROM:-0700
TZOFFSETTO:-0800
TZNAME:PST
DTSTART:20251102T090000
END:STANDARD
END:VTIMEZONE
BEGIN:VEVENT
DTSTART;VALUE=DATE:20240830
DTEND;VALUE=DATE:20240903
DTSTAMP:20260419T071614
CREATED:20240828T164931Z
LAST-MODIFIED:20240828T164931Z
UID:8106-1724976000-1725321599@cawildlife.org
SUMMARY:Malibu Chili Cook Off
DESCRIPTION:Come find the CWC van all weekend in the Third Space area at Malibu Chili Cookoff! Join us for Family Day on Monday for our track-casting craft. \nFrom the MCCO website: \nGet ready to sizzle this Labor Day weekend at the Malibu Chili Cook-Off\, August 30 to September 2\, with carnival rides\, food\, music\, and a showcase of local artisans! \nIndulge in the savory delights of award-winning chili as chefs battle it out for culinary supremacy. This beloved Malibu tradition also features a curated mix of local restaurants\, talented artists\, and lively DJ sets. Adults can unwind in the exclusive Town & Country Lounge\, a 21+ experience with a selection of craft beers\, local wines\, and refreshing non-alcoholic options. Thrill-seekers won’t want to miss the mini-ramp skate competition presented by Bones Love Milk\, promising high-flying action and adrenaline-pumping tricks. Plus\, snag some cool swag from Aviator Nation to commemorate the experience. Buy your tickets now for the ultimate summer activity! Carnival ride and game tickets are available separately. \nDon’t let the summer slip away without joining us for this iconic celebration of food\, rides\, and community in the heart of Malibu. Mark your calendars now for the most anticipated event in Malibu – it’s an experience you won’t want to miss! \nEvent Admission tickets are REQUIRED for entry (children 5 & under are free). Tickets will NOT be sold on site\, you must pre-purchase online. Carnival ride passes/tickets sold separately.
URL:https://cawildlife.org/event/cwc-topanga-farmers-market-2/
LOCATION:CA
CATEGORIES:Education
ATTACH;FMTTYPE=image/png:https://cawildlife.org/wp-content/uploads/2024/08/mcco-image.png
END:VEVENT
END:VCALENDAR